BEGIN:VCALENDAR
VERSION:2.0
PRODID:-//hacksw/handcal//NONSGML v1.0//EN
BEGIN:VEVENT
SUMMARY:U15G HBC2E contre AIME TARENTAISE VANOISE
UID:75edd181-7fb2-4cfe-9a55-611ef0810622
DTSTART:20260328T170000Z
DTEND:20260328T230000Z
LOCATION:Localisation Complexe Sportif des Versants d'Aime, Rue de la Frasse 73210 AIME
CATEGORIES:Sportif
STATUS:
DESCRIPTION:<table style="width:841px;"
 width="841">
 	<colgroup>
 		<col style="width:71pt;"
 width="95">
 		<col style="width:169pt;" width="225">
 		<col
 style="width:75pt;" width="100">
 		<col style="width:77pt;"
 width="103">
 		<col style="width:169pt;" width="225">
 		<col
 style="width:70pt;" width="93">
 	</colgroup>
 	<tbody>
 		<tr>
 			<td
 class="xl68"
 style="height:71px;width:95px;text-align:center;padding-left:1px;background-color:#FFFFFF;"><span
 style="font-size:24px;"><span style="color:#0066cc;"><span
 style="font-weight:700;"><span style="font-family:Arial,
 sans-serif;"><span style="font-style:normal;"><span
 style="text-decoration:none;">U15G<br>
 			<font><span
 style="font-size:14pt;"><span style="color:#0066cc;"><span
 style="font-weight:700;"><span style="font-style:normal;"><span
 style="text-decoration:none;"><span style="font-family:Arial,
 sans-serif;">HBC2E</span></span></span></span></span></span></font></span></span></span></span></span></span></td>
 			<td
 class="xl65"
 style="width:225px;text-align:center;padding-left:1px;background-color:#FFFFFF;"><span
 style="font-size:23px;"><span style="color:#0066cc;"><span
 style="font-weight:700;"><span style="font-family:Arial,
 sans-serif;"><span style="font-style:normal;"><span
 style="text-decoration:none;">AIME TARENTAISE
 VANOISE</span></span></span></span></span></span></td>
 			<td
 class="xl66"
 style="width:225px;text-align:center;padding-left:1px;background-color:#FFFFFF;"><span
 style="font-size:13px;"><span style="color:#0066cc;"><span
 style="font-weight:700;"><span style="font-family:Arial,
 sans-serif;"><span style="font-style:normal;"><span
 style="text-decoration:none;">Complexe Sportif des Versants
 d'Aime<br>
 			Rue de la Frasse<br>
 			73210
 AIME</span></span></span></span></span></span></td>
 			<td
 class="xl67"
 style="width:93px;text-align:center;padding-left:1px;background-color:#FFFFFF;"><span
 style="font-size:20px;"><span style="color:#0066cc;"><span
 style="font-weight:700;"><span style="font-family:Arial,
 sans-serif;"><span style="font-style:normal;"><span
 style="text-decoration:none;">18H00</span></span></span></span></span></span></td>
 		</tr>
 	</tbody>
 </table>
 
 <p> </p>
URL;VALUE=URI:https://hbc2e.sportsregions.fr/evenements/2026/03/28/u15g-hbc2e-contre-aime-tarentaise-vanoise-2429822
END:VEVENT
END:VCALENDAR
