BEGIN:VCALENDAR
VERSION:2.0
PRODID:-//hacksw/handcal//NONSGML v1.0//EN
BEGIN:VEVENT
SUMMARY:U17F HBC2E contre ENT. ROSIERES-SAINT-JULIEN / SAVINO-CHAPELAIN
UID:b7a33ecd-4a45-4c9b-b159-53e42c7b7a67
DTSTART:20260418T160000Z
DTEND:20260418T220000Z
LOCATION:Gymnase Roger Journet 28 rue des Ruires 38320 Eybens
CATEGORIES:Sportif
STATUS:
DESCRIPTION:<table style="width:956px;"
 width="956">
 	<colgroup>
 		<col style="width:71pt;"
 width="95">
 		<col style="width:169pt;" width="225">
 		<col
 style="width:75pt;" width="100">
 		<col style="width:77pt;"
 width="103">
 		<col style="width:169pt;" width="225">
 		<col
 style="width:70pt;" width="93">
 		<col style="width:86pt;"
 width="115">
 	</colgroup>
 	<tbody>
 		<tr>
 			<td class="xl70"
 style="height:81px;width:95px;text-align:center;padding-left:1px;background-color:#FFFF00;"><span
 style="font-size:24px;"><span style="color:#0066cc;"><span
 style="font-weight:700;"><span style="font-family:Arial,
 sans-serif;"><span style="font-style:normal;"><span
 style="text-decoration:none;">U17F<br>
 			<font><span
 style="font-size:14pt;"><span style="color:#0066cc;"><span
 style="font-weight:700;"><span style="font-style:normal;"><span
 style="text-decoration:none;"><span style="font-family:Arial,
 sans-serif;">HBC2E</span></span></span></span></span></span></font></span></span></span></span></span></span></td>
 			<td
 class="xl71"
 style="width:225px;text-align:center;padding-left:1px;background-color:#FFFF00;"><span
 style="font-size:21px;"><span style="color:#0066cc;"><span
 style="font-weight:700;"><span style="font-family:Arial,
 sans-serif;"><span style="font-style:normal;"><span
 style="text-decoration:none;">ENT. ROSIERES-SAINT-JULIEN /
 SAVINO-CHAPELAIN</span></span></span></span></span></span></td>
 			<td
 class="xl67"
 style="width:225px;text-align:center;padding-left:1px;background-color:#FFFF00;"><span
 style="font-size:13px;"><span style="color:#0066cc;"><span
 style="font-weight:700;"><span style="font-family:Arial,
 sans-serif;"><span style="font-style:normal;"><span
 style="text-decoration:none;">Gymnase Roger Journet<br>
 			26 rue des
 ruires<br>
 			38320
 EYBENS</span></span></span></span></span></span></td>
 			<td
 class="xl68"
 style="width:93px;text-align:center;padding-left:1px;background-color:#FFFF00;"><span
 style="font-size:20px;"><span style="color:#0066cc;"><span
 style="font-weight:700;"><span style="font-family:Arial,
 sans-serif;"><span style="font-style:normal;"><span
 style="text-decoration:none;">18H00</span></span></span></span></span></span></td>
 			<td
 class="xl69"
 style="width:115px;text-align:center;padding-left:1px;background-color:#FFFF00;"><span
 style="font-size:13px;"><span style="color:#FF0000;"><span
 style="font-weight:700;"><span style="font-family:Arial,
 sans-serif;"><span style="font-style:normal;"><span
 style="text-decoration:none;">Evan AVANZATO<br>
 			Valentin
 GOURDIN</span></span></span></span></span></span></td>
 		</tr>
 	</tbody>
 </table>
 
 <p> </p>
URL;VALUE=URI:https://hbc2e.sportsregions.fr/evenements/2026/04/18/u17f-hbc2e-contre-ent-rosieres-saint-julien-savino-chapelain-2439150
END:VEVENT
END:VCALENDAR
