BEGIN:VCALENDAR
VERSION:2.0
PRODID:-//hacksw/handcal//NONSGML v1.0//EN
BEGIN:VEVENT
SUMMARY:PNF LES ALPINES contre EVIAN SPORTS
UID:3b60992d-3b9b-4c33-842c-97c2421b146d
DTSTART:20260425T184500Z
DTEND:20260425T220000Z
LOCATION:Localisation Centre Sportif de Lechere, 851 avenue des rives du Leman 74500 EVIAN LES BAINS
CATEGORIES:Sportif
STATUS:
DESCRIPTION:<table style="width:956px;"
 width="956">
 	<colgroup>
 		<col style="width:71pt;"
 width="95">
 		<col style="width:169pt;" width="225">
 		<col
 style="width:75pt;" width="100">
 		<col style="width:77pt;"
 width="103">
 		<col style="width:169pt;" width="225">
 		<col
 style="width:70pt;" width="93">
 		<col style="width:86pt;"
 width="115">
 	</colgroup>
 	<tbody>
 		<tr>
 			<td class="xl70"
 style="height:67px;width:95px;text-align:center;padding-left:1px;background-color:#FFFFFF;"><span
 style="font-size:24px;"><span style="color:#0066cc;"><span
 style="font-weight:700;"><span style="font-family:Arial,
 sans-serif;"><span style="font-style:normal;"><span
 style="text-decoration:none;">PNF<br>
 			<font><span
 style="font-size:14pt;"><span style="color:#0066cc;"><span
 style="font-weight:700;"><span style="font-style:normal;"><span
 style="text-decoration:none;"><span style="font-family:Arial,
 sans-serif;">ALPINES</span></span></span></span></span></span></font></span></span></span></span></span></span></td>
 			<td
 class="xl73"
 style="width:225px;text-align:center;padding-left:1px;background-color:#FFFFFF;"><span
 style="font-size:21px;"><span style="color:#0066cc;"><span
 style="font-weight:700;"><span style="font-family:Arial,
 sans-serif;"><span style="font-style:normal;"><span
 style="text-decoration:none;">EVIAN
 SPORTS</span></span></span></span></span></span></td>
 			<td
 class="xl67"
 style="width:225px;text-align:center;padding-left:1px;background-color:#FFFFFF;"><span
 style="font-size:13px;"><span style="color:#0066cc;"><span
 style="font-weight:700;"><span style="font-family:Arial,
 sans-serif;"><span style="font-style:normal;"><span
 style="text-decoration:none;">Centre Sportif de Lechere<br>
 			851
 avenue des rives du Leman<br>
 			74500 EVIAN LES
 BAINS</span></span></span></span></span></span></td>
 			<td
 class="xl68"
 style="width:93px;text-align:center;padding-left:1px;background-color:#FFFFFF;"><span
 style="font-size:20px;"><span style="color:#0066cc;"><span
 style="font-weight:700;"><span style="font-family:Arial,
 sans-serif;"><span style="font-style:normal;"><span
 style="text-decoration:none;">20H45</span></span></span></span></span></span></td>
 			<td
 class="xl69"
 style="width:115px;text-align:center;padding-left:1px;background-color:#FFFFFF;"><span
 style="font-size:13px;"><span style="color:#FF0000;"><span
 style="font-weight:700;"><span style="font-family:Arial,
 sans-serif;"><span style="font-style:normal;"><span
 style="text-decoration:none;">Guy
 GINOLIN</span></span></span></span></span></span></td>
 		</tr>
 	</tbody>
 </table>
 
 <p> </p>
URL;VALUE=URI:https://hbc2e.sportsregions.fr/evenements/2026/04/25/pnf-les-alpines-contre-evian-sports-2441655
END:VEVENT
END:VCALENDAR
