BEGIN:VCALENDAR
VERSION:2.0
PRODID:-//hacksw/handcal//NONSGML v1.0//EN
BEGIN:VEVENT
SUMMARY:U13F1 HBC2E-SMU-GSMH contre HANDBALL ROCHETTOIS
UID:4e391cc8-ac29-4b33-9d7e-0d217cf4e2ae
DTSTART:20260425T120000Z
DTEND:20260425T220000Z
LOCATION:Localisation Halle Pablo Neruda, Rue Henri Wallon 38400 SAINT-MARTIN D'HERES
CATEGORIES:Sportif
STATUS:
DESCRIPTION:<table style="width:841px;"
 width="841">
 	<colgroup>
 		<col style="width:71pt;"
 width="95">
 		<col style="width:169pt;" width="225">
 		<col
 style="width:75pt;" width="100">
 		<col style="width:77pt;"
 width="103">
 		<col style="width:169pt;" width="225">
 		<col
 style="width:70pt;" width="93">
 	</colgroup>
 	<tbody>
 		<tr>
 			<td
 class="xl67"
 style="height:104px;width:95px;text-align:center;padding-left:1px;background-color:#fcd5b4;"><span
 style="font-size:24px;"><span style="color:#0066cc;"><span
 style="font-weight:700;"><span style="font-family:Arial,
 sans-serif;"><span style="font-style:normal;"><span
 style="text-decoration:none;">U13F <font><span
 style="font-size:14pt;"><span style="color:#0066cc;"><span
 style="font-weight:700;"><span style="font-style:normal;"><span
 style="text-decoration:none;"><span style="font-family:Arial,
 sans-serif;">HBC2E<br>
 			SMU<br>
 			GSMH</span></span></span></span></span></span></font></span></span></span></span></span></span></td>
 			<td
 class="xl68"
 style="width:225px;text-align:center;padding-left:1px;background-color:#fcd5b4;"><span
 style="font-size:21px;"><span style="color:#0066cc;"><span
 style="font-weight:700;"><span style="font-family:Arial,
 sans-serif;"><span style="font-style:normal;"><span
 style="text-decoration:none;">HANDBALL
 ROCHETTOIS</span></span></span></span></span></span></td>
 			<td
 class="xl71"
 style="width:225px;text-align:center;padding-left:1px;background-color:#fcd5b4;"><span
 style="font-size:13px;"><span style="color:#0066cc;"><span
 style="font-weight:700;"><span style="font-family:Arial,
 sans-serif;"><span style="font-style:normal;"><span
 style="text-decoration:none;">Halle Pablo Neruda<br>
 			Rue Henri
 Wallon<br>
 			38400 SAINT-MARTIN
 D'HERES</span></span></span></span></span></span></td>
 			<td
 class="xl72"
 style="width:93px;text-align:center;padding-left:1px;background-color:#fcd5b4;"><span
 style="font-size:20px;"><span style="color:#0066cc;"><span
 style="font-weight:700;"><span style="font-family:Arial,
 sans-serif;"><span style="font-style:normal;"><span
 style="text-decoration:none;">14H00</span></span></span></span></span></span></td>
 		</tr>
 	</tbody>
 </table>
 
 <p> </p>
URL;VALUE=URI:https://hbc2e.sportsregions.fr/evenements/2026/04/25/u13f1-hbc2e-smu-gsmh-contre-handball-rochettois-2441640
END:VEVENT
END:VCALENDAR
