BEGIN:VCALENDAR
VERSION:2.0
PRODID:-//hacksw/handcal//NONSGML v1.0//EN
BEGIN:VEVENT
SUMMARY:U15F1 HBC2E contre HBC CROLLES
UID:9591b468-c9d7-4b84-aa62-e1fe5701fa23
DTSTART:20260425T103000Z
DTEND:20260425T220000Z
LOCATION:Localisation Gymnase Leo Lagrange, 884 rue Leo Lagrange 38920 CROLLES
CATEGORIES:Sportif
STATUS:
DESCRIPTION:<table style="width:841px;"
 width="841">
 	<colgroup>
 		<col style="width:71pt;"
 width="95">
 		<col style="width:169pt;" width="225">
 		<col
 style="width:75pt;" width="100">
 		<col style="width:77pt;"
 width="103">
 		<col style="width:169pt;" width="225">
 		<col
 style="width:70pt;" width="93">
 	</colgroup>
 	<tbody>
 		<tr>
 			<td
 class="xl67"
 style="height:67px;width:95px;text-align:center;padding-left:1px;background-color:#FFFFFF;"><span
 style="font-size:24px;"><span style="color:#0066cc;"><span
 style="font-weight:700;"><span style="font-family:Arial,
 sans-serif;"><span style="font-style:normal;"><span
 style="text-decoration:none;">U15F1<br>
 			<font><span
 style="font-size:14pt;"><span style="color:#0066cc;"><span
 style="font-weight:700;"><span style="font-style:normal;"><span
 style="text-decoration:none;"><span style="font-family:Arial,
 sans-serif;">HBC2E</span></span></span></span></span></span></font></span></span></span></span></span></span></td>
 			<td
 class="xl70"
 style="width:225px;text-align:center;padding-left:1px;background-color:#FFFFFF;"><span
 style="font-size:21px;"><span style="color:#0066cc;"><span
 style="font-weight:700;"><span style="font-family:Arial,
 sans-serif;"><span style="font-style:normal;"><span
 style="text-decoration:none;">HBC
 CROLLES</span></span></span></span></span></span></td>
 			<td
 class="xl65"
 style="width:225px;text-align:center;padding-left:1px;background-color:#FFFFFF;"><span
 style="font-size:13px;"><span style="color:#0066cc;"><span
 style="font-weight:700;"><span style="font-family:Arial,
 sans-serif;"><span style="font-style:normal;"><span
 style="text-decoration:none;">Gymnase Leo Lagrange<br>
 			884 rue Leo
 Lagrange<br>
 			38920
 COLLES</span></span></span></span></span></span></td>
 			<td
 class="xl66"
 style="width:93px;text-align:center;padding-left:1px;background-color:#FFFFFF;"><span
 style="font-size:20px;"><span style="color:#0066cc;"><span
 style="font-weight:700;"><span style="font-family:Arial,
 sans-serif;"><span style="font-style:normal;"><span
 style="text-decoration:none;">12H30</span></span></span></span></span></span></td>
 		</tr>
 	</tbody>
 </table>
 
 <p> </p>
URL;VALUE=URI:https://hbc2e.sportsregions.fr/evenements/2026/04/25/u15f1-hbc2e-contre-hbc-crolles-2441636
END:VEVENT
END:VCALENDAR
