BEGIN:VCALENDAR
VERSION:2.0
PRODID:-//hacksw/handcal//NONSGML v1.0//EN
BEGIN:VEVENT
SUMMARY:U17G ACADEMIE contre ENTENTE BEAUJOLAISE
UID:8545b933-a813-4c7a-97ac-255f5e9605b2
DTSTART:20260425T140000Z
DTEND:20260425T220000Z
LOCATION:Localisation Palais Omnisport l'Escale, 2726 route de longsard 69400 ARNAS
CATEGORIES:Sportif
STATUS:
DESCRIPTION:<table style="width:956px;"
 width="956">
 	<colgroup>
 		<col style="width:71pt;"
 width="95">
 		<col style="width:169pt;" width="225">
 		<col
 style="width:75pt;" width="100">
 		<col style="width:77pt;"
 width="103">
 		<col style="width:169pt;" width="225">
 		<col
 style="width:70pt;" width="93">
 		<col style="width:86pt;"
 width="115">
 	</colgroup>
 	<tbody>
 		<tr>
 			<td class="xl70"
 style="height:67px;width:95px;text-align:center;padding-left:1px;background-color:#FFFFFF;"><span
 style="font-size:24px;"><span style="color:#0066cc;"><span
 style="font-weight:700;"><span style="font-family:Arial,
 sans-serif;"><span style="font-style:normal;"><span
 style="text-decoration:none;">U17G<br>
 			<font><span
 style="font-size:14pt;"><span style="color:#0066cc;"><span
 style="font-weight:700;"><span style="font-style:normal;"><span
 style="text-decoration:none;"><span style="font-family:Arial,
 sans-serif;">ACAD</span></span></span></span></span></span></font></span></span></span></span></span></span></td>
 			<td
 class="xl73"
 style="width:225px;text-align:center;padding-left:1px;background-color:#FFFFFF;"><span
 style="font-size:21px;"><span style="color:#0066cc;"><span
 style="font-weight:700;"><span style="font-family:Arial,
 sans-serif;"><span style="font-style:normal;"><span
 style="text-decoration:none;">ENTENTE
 BEAUJOLAISE</span></span></span></span></span></span></td>
 			<td
 class="xl67"
 style="width:225px;text-align:center;padding-left:1px;background-color:#FFFFFF;"><span
 style="font-size:13px;"><span style="color:#0066cc;"><span
 style="font-weight:700;"><span style="font-family:Arial,
 sans-serif;"><span style="font-style:normal;"><span
 style="text-decoration:none;">Palais Omnisport L'Escale<br>
 			2726
 route de Longsard<br>
 			69400
 ARNAS</span></span></span></span></span></span></td>
 			<td
 class="xl68"
 style="width:93px;text-align:center;padding-left:1px;background-color:#FFFFFF;"><span
 style="font-size:20px;"><span style="color:#0066cc;"><span
 style="font-weight:700;"><span style="font-family:Arial,
 sans-serif;"><span style="font-style:normal;"><span
 style="text-decoration:none;">16H00</span></span></span></span></span></span></td>
 			<td
 class="xl69"
 style="width:115px;text-align:center;padding-left:1px;background-color:#FFFFFF;"><span
 style="font-size:13px;"><span style="color:#FF0000;"><span
 style="font-weight:700;"><span style="font-family:Arial,
 sans-serif;"><span style="font-style:normal;"><span
 style="text-decoration:none;">Lucian GARCIN<br>
 			Hugo
 MATRAT</span></span></span></span></span></span></td>
 		</tr>
 	</tbody>
 </table>
 
 <p> </p>
URL;VALUE=URI:https://hbc2e.sportsregions.fr/evenements/2026/04/25/u17g-academie-contre-entente-beaujolaise-2441645
END:VEVENT
END:VCALENDAR
