BEGIN:VCALENDAR
VERSION:2.0
PRODID:-//hacksw/handcal//NONSGML v1.0//EN
BEGIN:VEVENT
SUMMARY:U18G HBC2E contre US VIZILLE
UID:e326a86c-266b-495b-8ad5-43e438fc1e87
DTSTART:20260425T133000Z
DTEND:20260425T220000Z
LOCATION:Localisation Gymnase du College, Avenue de Venaria 38220 VIZILLE
CATEGORIES:Sportif
STATUS:
DESCRIPTION:<table style="width:841px;"
 width="841">
 	<colgroup>
 		<col style="width:71pt;"
 width="95">
 		<col style="width:169pt;" width="225">
 		<col
 style="width:75pt;" width="100">
 		<col style="width:77pt;"
 width="103">
 		<col style="width:169pt;" width="225">
 		<col
 style="width:70pt;" width="93">
 	</colgroup>
 	<tbody>
 		<tr>
 			<td
 class="xl69"
 style="height:67px;width:95px;text-align:center;padding-left:1px;background-color:#FFFFFF;"><span
 style="font-size:24px;"><span style="color:#0066cc;"><span
 style="font-weight:700;"><span style="font-family:Arial,
 sans-serif;"><span style="font-style:normal;"><span
 style="text-decoration:none;">U18G<br>
 			<font><span
 style="font-size:14pt;"><span style="color:#0066cc;"><span
 style="font-weight:700;"><span style="font-style:normal;"><span
 style="text-decoration:none;"><span style="font-family:Arial,
 sans-serif;">HBC2E</span></span></span></span></span></span></font></span></span></span></span></span></span></td>
 			<td
 class="xl72"
 style="width:225px;text-align:center;padding-left:1px;background-color:#FFFFFF;"><span
 style="font-size:21px;"><span style="color:#0066cc;"><span
 style="font-weight:700;"><span style="font-family:Arial,
 sans-serif;"><span style="font-style:normal;"><span
 style="text-decoration:none;">US
 VIZILLE</span></span></span></span></span></span></td>
 			<td
 class="xl67"
 style="width:225px;text-align:center;padding-left:1px;background-color:#FFFFFF;"><span
 style="font-size:13px;"><span style="color:#0066cc;"><span
 style="font-weight:700;"><span style="font-family:Arial,
 sans-serif;"><span style="font-style:normal;"><span
 style="text-decoration:none;">Gymnase du College<br>
 			Avenue de
 venaria<br>
 			38220
 VIZILLE</span></span></span></span></span></span></td>
 			<td
 class="xl68"
 style="width:93px;text-align:center;padding-left:1px;background-color:#FFFFFF;"><span
 style="font-size:20px;"><span style="color:#0066cc;"><span
 style="font-weight:700;"><span style="font-family:Arial,
 sans-serif;"><span style="font-style:normal;"><span
 style="text-decoration:none;">15H30</span></span></span></span></span></span></td>
 		</tr>
 	</tbody>
 </table>
 
 <p> </p>
URL;VALUE=URI:https://hbc2e.sportsregions.fr/evenements/2026/04/25/u18g-hbc2e-contre-us-vizille-2441644
END:VEVENT
END:VCALENDAR
