BEGIN:VCALENDAR
VERSION:2.0
PRODID:-//hacksw/handcal//NONSGML v1.0//EN
BEGIN:VEVENT
SUMMARY:U15G ACADEMIE contre ENTENTE EST LYONNAIS
UID:4c97526e-627b-4b94-b884-d6a4f889e4a1
DTSTART:20260426T090000Z
DTEND:20260426T220000Z
LOCATION:Localisation Gymnase Jean Jaures, Chemin de grange blanche 69960 CORBAS
CATEGORIES:Sportif
STATUS:
DESCRIPTION:<table style="width:956px;"
 width="956">
 	<colgroup>
 		<col style="width:71pt;"
 width="95">
 		<col style="width:169pt;" width="225">
 		<col
 style="width:75pt;" width="100">
 		<col style="width:77pt;"
 width="103">
 		<col style="width:169pt;" width="225">
 		<col
 style="width:70pt;" width="93">
 		<col style="width:86pt;"
 width="115">
 	</colgroup>
 	<tbody>
 		<tr>
 			<td class="xl70"
 style="height:67px;width:95px;text-align:center;padding-left:1px;background-color:#FFFFFF;"><span
 style="font-size:24px;"><span style="color:#0066cc;"><span
 style="font-weight:700;"><span style="font-family:Arial,
 sans-serif;"><span style="font-style:normal;"><span
 style="text-decoration:none;">U15G<br>
 			<font><span
 style="font-size:14pt;"><span style="color:#0066cc;"><span
 style="font-weight:700;"><span style="font-style:normal;"><span
 style="text-decoration:none;"><span style="font-family:Arial,
 sans-serif;">ACAD</span></span></span></span></span></span></font></span></span></span></span></span></span></td>
 			<td
 class="xl72"
 style="width:225px;text-align:center;padding-left:1px;background-color:#FFFFFF;"><span
 style="font-size:23px;"><span style="color:#0066cc;"><span
 style="font-weight:700;"><span style="font-family:Arial,
 sans-serif;"><span style="font-style:normal;"><span
 style="text-decoration:none;">ENTENTE EST
 LYONNAIS</span></span></span></span></span></span></td>
 			<td
 class="xl67"
 style="width:225px;text-align:center;padding-left:1px;background-color:#FFFFFF;"><span
 style="font-size:13px;"><span style="color:#0066cc;"><span
 style="font-weight:700;"><span style="font-family:Arial,
 sans-serif;"><span style="font-style:normal;"><span
 style="text-decoration:none;"> </span></span></span></span></span></span></td>
 			<td
 class="xl68"
 style="width:93px;text-align:center;padding-left:1px;background-color:#FFFFFF;"><span
 style="font-size:20px;"><span style="color:#0066cc;"><span
 style="font-weight:700;"><span style="font-family:Arial,
 sans-serif;"><span style="font-style:normal;"><span
 style="text-decoration:none;">11H00</span></span></span></span></span></span></td>
 			<td
 class="xl69"
 style="width:115px;text-align:center;padding-left:1px;background-color:#FFFFFF;"><span
 style="font-size:13px;"><span style="color:#FF0000;"><span
 style="font-weight:700;"><span style="font-family:Arial,
 sans-serif;"><span style="font-style:normal;"><span
 style="text-decoration:none;">Eva DEBALLON<br>
 			Candice
 HUMBERT-DROZ</span></span></span></span></span></span></td>
 		</tr>
 	</tbody>
 </table>
 
 <p> </p>
URL;VALUE=URI:https://hbc2e.sportsregions.fr/evenements/2026/04/26/u15g-academie-contre-entente-est-lyonnais-2441657
END:VEVENT
END:VCALENDAR
