BEGIN:VCALENDAR
VERSION:2.0
PRODID:-//hacksw/handcal//NONSGML v1.0//EN
BEGIN:VEVENT
SUMMARY:U13F HBC2E-SMU-GSMH contre VAL DE LEYSSE
UID:1fa887a5-62ff-40c5-95e3-7d7e465c454c
DTSTART:20260502T120000Z
DTEND:20260502T220000Z
LOCATION:Localisation Gymnase de Saint-Alban, Impasse du repos 73230 SAINT-ALBAN LEYSSE
CATEGORIES:Sportif
STATUS:
DESCRIPTION:<p> </p>
 
 <table style="width:841px;"
 width="841">
 	<colgroup>
 		<col style="width:71pt;"
 width="95">
 		<col style="width:169pt;" width="225">
 		<col
 style="width:75pt;" width="100">
 		<col style="width:77pt;"
 width="103">
 		<col style="width:169pt;" width="225">
 		<col
 style="width:70pt;" width="93">
 	</colgroup>
 	<tbody>
 		<tr>
 			<td
 class="xl67"
 style="height:104px;width:95px;text-align:center;padding-left:1px;background-color:#FFFFFF;"><span
 style="font-size:24px;"><span style="color:#0066cc;"><span
 style="font-weight:700;"><span style="font-family:Arial,
 sans-serif;"><span style="font-style:normal;"><span
 style="text-decoration:none;">U13F<br>
 			<font><span
 style="font-size:14pt;"><span style="color:#0066cc;"><span
 style="font-weight:700;"><span style="font-style:normal;"><span
 style="text-decoration:none;"><span style="font-family:Arial,
 sans-serif;">HBC2E<br>
 			SMU<br>
 			GSMH</span></span></span></span></span></span></font></span></span></span></span></span></span></td>
 			<td
 class="xl70"
 style="width:225px;text-align:center;padding-left:1px;background-color:#FFFFFF;"><span
 style="font-size:21px;"><span style="color:#0066cc;"><span
 style="font-weight:700;"><span style="font-family:Arial,
 sans-serif;"><span style="font-style:normal;"><span
 style="text-decoration:none;">VAL DE
 LEYSSE</span></span></span></span></span></span></td>
 			<td
 class="xl65"
 style="width:225px;text-align:center;padding-left:1px;background-color:#FFFFFF;"><span
 style="font-size:13px;"><span style="color:#0066cc;"><span
 style="font-weight:700;"><span style="font-family:Arial,
 sans-serif;"><span style="font-style:normal;"><span
 style="text-decoration:none;">Gymnase de Saint-Alban<br>
 			Impasse
 du repos<br>
 			73230 SAINT-ALBAN
 LEYSSE</span></span></span></span></span></span></td>
 			<td
 class="xl66"
 style="width:93px;text-align:center;padding-left:1px;background-color:#FFFFFF;"><span
 style="font-size:20px;"><span style="color:#0066cc;"><span
 style="font-weight:700;"><span style="font-family:Arial,
 sans-serif;"><span style="font-style:normal;"><span
 style="text-decoration:none;">14H00</span></span></span></span></span></span></td>
 		</tr>
 	</tbody>
 </table>
URL;VALUE=URI:https://hbc2e.sportsregions.fr/evenements/2026/05/02/u13f-hbc2e-smu-gsmh-contre-val-de-leysse-2443862
END:VEVENT
END:VCALENDAR
